BEGIN:VCALENDAR
VERSION:2.0
PRODID:-//Sabre//Sabre VObject 4.5.0//EN
CALSCALE:GREGORIAN
BEGIN:VEVENT
UID:sabre-vobject-853364d4-eed6-4a9f-9bf0-86d0dc545d16
DTSTAMP:20260424T010701Z
LOCATION:Sala 220 ING\, TEAMS
SUMMARY:Geologia Marsa. Przyszłość badań planetarnych oraz potencjał b
 adawczy Instytutu Geologii UAM
DESCRIPTION:
DTSTART;VALUE=DATE-TIME:20260428T080000Z
DTEND;VALUE=DATE-TIME:20260428T093000Z
END:VEVENT
END:VCALENDAR
